BEGIN:VCALENDAR
VERSION:2.0
PRODID:-//Enmarket Arena - ECPv6.15.18//NONSGML v1.0//EN
CALSCALE:GREGORIAN
METHOD:PUBLISH
X-WR-CALNAME:Enmarket Arena
X-ORIGINAL-URL:https://enmarketarena.com
X-WR-CALDESC:Events for Enmarket Arena
REFRESH-INTERVAL;VALUE=DURATION:PT1H
X-Robots-Tag:noindex
X-PUBLISHED-TTL:PT1H
BEGIN:VTIMEZONE
TZID:America/New_York
BEGIN:DAYLIGHT
TZOFFSETFROM:-0500
TZOFFSETTO:-0400
TZNAME:EDT
DTSTART:20250309T070000
END:DAYLIGHT
BEGIN:STANDARD
TZOFFSETFROM:-0400
TZOFFSETTO:-0500
TZNAME:EST
DTSTART:20251102T060000
END:STANDARD
BEGIN:DAYLIGHT
TZOFFSETFROM:-0500
TZOFFSETTO:-0400
TZNAME:EDT
DTSTART:20260308T070000
END:DAYLIGHT
BEGIN:STANDARD
TZOFFSETFROM:-0400
TZOFFSETTO:-0500
TZNAME:EST
DTSTART:20261101T060000
END:STANDARD
BEGIN:DAYLIGHT
TZOFFSETFROM:-0500
TZOFFSETTO:-0400
TZNAME:EDT
DTSTART:20270314T070000
END:DAYLIGHT
BEGIN:STANDARD
TZOFFSETFROM:-0400
TZOFFSETTO:-0500
TZNAME:EST
DTSTART:20271107T060000
END:STANDARD
END:VTIMEZONE
BEGIN:VEVENT
DTSTART;TZID=America/New_York:20260429T190000
DTEND;TZID=America/New_York:20260429T190000
DTSTAMP:20260419T163416
CREATED:20260414T180217Z
LAST-MODIFIED:20260414T180217Z
UID:10000623-1777489200-1777489200@enmarketarena.com
SUMMARY:Savannah Ghost Pirates Playoff Game
DESCRIPTION:Savannah Ghost Pirates Vs. Florida Everblades
URL:https://enmarketarena.com/event/savannah-ghost-pirates-playoff-game/
LOCATION:Enmarket Arena\, 620 Stiles Ave.\, Savannah\, GA\, 31415\, United States
CATEGORIES:Sports
ATTACH;FMTTYPE=image/png:https://enmarketarena.com/wp-content/uploads/2025/08/FLORIDA.png
GEO:32.0740493;-81.1115807
X-APPLE-STRUCTURED-LOCATION;VALUE=URI;X-ADDRESS=Enmarket Arena 620 Stiles Ave. Savannah GA 31415 United States;X-APPLE-RADIUS=500;X-TITLE=620 Stiles Ave.:geo:-81.1115807,32.0740493
END:VEVENT
BEGIN:VEVENT
DTSTART;TZID=America/New_York:20260501T190000
DTEND;TZID=America/New_York:20260501T190000
DTSTAMP:20260419T163416
CREATED:20260414T181429Z
LAST-MODIFIED:20260414T181811Z
UID:10000624-1777662000-1777662000@enmarketarena.com
SUMMARY:Savannah Ghost Pirates Playoff Game
DESCRIPTION:Savannah Ghost Pirates Vs. Florida Everblades
URL:https://enmarketarena.com/event/savannah-ghost-pirates-playoff-game-2/
LOCATION:Enmarket Arena\, 620 Stiles Ave.\, Savannah\, GA\, 31415\, United States
CATEGORIES:Sports
ATTACH;FMTTYPE=image/png:https://enmarketarena.com/wp-content/uploads/2025/08/FLORIDA.png
GEO:32.0740493;-81.1115807
X-APPLE-STRUCTURED-LOCATION;VALUE=URI;X-ADDRESS=Enmarket Arena 620 Stiles Ave. Savannah GA 31415 United States;X-APPLE-RADIUS=500;X-TITLE=620 Stiles Ave.:geo:-81.1115807,32.0740493
END:VEVENT
BEGIN:VEVENT
DTSTART;TZID=America/New_York:20260522T190000
DTEND;TZID=America/New_York:20260522T190000
DTSTAMP:20260419T163416
CREATED:20260204T174546Z
LAST-MODIFIED:20260407T165050Z
UID:10000598-1779476400-1779476400@enmarketarena.com
SUMMARY:Savannah Steel Vs. Greensboro Groove
DESCRIPTION:Join us for the first ever home game of the Savannah Steel!
URL:https://enmarketarena.com/event/savannah-steel-vs-greensboro-groove/
LOCATION:Enmarket Arena\, 620 Stiles Ave.\, Savannah\, GA\, 31415\, United States
CATEGORIES:Sports
ATTACH;FMTTYPE=image/png:https://enmarketarena.com/wp-content/uploads/2026/02/SavannahSteelGameday_GreensboroGroove.png
GEO:32.0740493;-81.1115807
X-APPLE-STRUCTURED-LOCATION;VALUE=URI;X-ADDRESS=Enmarket Arena 620 Stiles Ave. Savannah GA 31415 United States;X-APPLE-RADIUS=500;X-TITLE=620 Stiles Ave.:geo:-81.1115807,32.0740493
END:VEVENT
BEGIN:VEVENT
DTSTART;TZID=America/New_York:20260524T150000
DTEND;TZID=America/New_York:20260524T150000
DTSTAMP:20260419T163416
CREATED:20260204T175506Z
LAST-MODIFIED:20260407T165248Z
UID:10000599-1779634800-1779634800@enmarketarena.com
SUMMARY:Savannah Steel Vs. Jacksonville Waves
DESCRIPTION:
URL:https://enmarketarena.com/event/savannah-steel-vs-jacksonville-waves/
LOCATION:Enmarket Arena\, 620 Stiles Ave.\, Savannah\, GA\, 31415\, United States
CATEGORIES:Sports
ATTACH;FMTTYPE=image/png:https://enmarketarena.com/wp-content/uploads/2026/02/SavannahSteelGameday_JacksonvilleWaves.png
GEO:32.0740493;-81.1115807
X-APPLE-STRUCTURED-LOCATION;VALUE=URI;X-ADDRESS=Enmarket Arena 620 Stiles Ave. Savannah GA 31415 United States;X-APPLE-RADIUS=500;X-TITLE=620 Stiles Ave.:geo:-81.1115807,32.0740493
END:VEVENT
BEGIN:VEVENT
DTSTART;TZID=America/New_York:20260528T190000
DTEND;TZID=America/New_York:20260528T190000
DTSTAMP:20260419T163416
CREATED:20260204T175828Z
LAST-MODIFIED:20260415T180549Z
UID:10000600-1779994800-1779994800@enmarketarena.com
SUMMARY:Savannah Steel Vs. Charlotte Crown
DESCRIPTION:
URL:https://enmarketarena.com/event/savannah-steel-vs-charlotte-crown/
LOCATION:Enmarket Arena\, 620 Stiles Ave.\, Savannah\, GA\, 31415\, United States
CATEGORIES:Sports
ATTACH;FMTTYPE=image/png:https://enmarketarena.com/wp-content/uploads/2026/02/SavannahSteelGameday_CharlotteCrown.png
GEO:32.0740493;-81.1115807
X-APPLE-STRUCTURED-LOCATION;VALUE=URI;X-ADDRESS=Enmarket Arena 620 Stiles Ave. Savannah GA 31415 United States;X-APPLE-RADIUS=500;X-TITLE=620 Stiles Ave.:geo:-81.1115807,32.0740493
END:VEVENT
BEGIN:VEVENT
DTSTART;TZID=America/New_York:20260529T190000
DTEND;TZID=America/New_York:20260529T190000
DTSTAMP:20260419T163416
CREATED:20260204T180746Z
LAST-MODIFIED:20260415T180033Z
UID:10000601-1780081200-1780081200@enmarketarena.com
SUMMARY:Savannah Steel Vs. Charlotte Crown
DESCRIPTION:
URL:https://enmarketarena.com/event/savannah-steel-vs-charlotte-crown-2/
LOCATION:Enmarket Arena\, 620 Stiles Ave.\, Savannah\, GA\, 31415\, United States
CATEGORIES:Sports
ATTACH;FMTTYPE=image/png:https://enmarketarena.com/wp-content/uploads/2026/02/SavannahSteelGameday_CharlotteCrown.png
GEO:32.0740493;-81.1115807
X-APPLE-STRUCTURED-LOCATION;VALUE=URI;X-ADDRESS=Enmarket Arena 620 Stiles Ave. Savannah GA 31415 United States;X-APPLE-RADIUS=500;X-TITLE=620 Stiles Ave.:geo:-81.1115807,32.0740493
END:VEVENT
BEGIN:VEVENT
DTSTART;TZID=America/New_York:20260621T150000
DTEND;TZID=America/New_York:20260621T150000
DTSTAMP:20260419T163416
CREATED:20260204T181452Z
LAST-MODIFIED:20260415T175835Z
UID:10000602-1782054000-1782054000@enmarketarena.com
SUMMARY:Savannah Steel Vs. Charlotte Crown
DESCRIPTION:
URL:https://enmarketarena.com/event/savannah-steel-vs-charlotte-crown-3/
LOCATION:Enmarket Arena\, 620 Stiles Ave.\, Savannah\, GA\, 31415\, United States
CATEGORIES:Sports
ATTACH;FMTTYPE=image/png:https://enmarketarena.com/wp-content/uploads/2026/02/SavannahSteelGameday_CharlotteCrown.png
GEO:32.0740493;-81.1115807
X-APPLE-STRUCTURED-LOCATION;VALUE=URI;X-ADDRESS=Enmarket Arena 620 Stiles Ave. Savannah GA 31415 United States;X-APPLE-RADIUS=500;X-TITLE=620 Stiles Ave.:geo:-81.1115807,32.0740493
END:VEVENT
BEGIN:VEVENT
DTSTART;TZID=America/New_York:20260624T120000
DTEND;TZID=America/New_York:20260624T120000
DTSTAMP:20260419T163416
CREATED:20260204T181710Z
LAST-MODIFIED:20260415T175409Z
UID:10000603-1782302400-1782302400@enmarketarena.com
SUMMARY:Savannah Steel Vs. Greensboro Groove
DESCRIPTION:
URL:https://enmarketarena.com/event/savannah-steel-vs-greensboro-groove-2/
LOCATION:Enmarket Arena\, 620 Stiles Ave.\, Savannah\, GA\, 31415\, United States
CATEGORIES:Sports
ATTACH;FMTTYPE=image/png:https://enmarketarena.com/wp-content/uploads/2026/02/SavannahSteelGameday_GreensboroGroove-1.png
GEO:32.0740493;-81.1115807
X-APPLE-STRUCTURED-LOCATION;VALUE=URI;X-ADDRESS=Enmarket Arena 620 Stiles Ave. Savannah GA 31415 United States;X-APPLE-RADIUS=500;X-TITLE=620 Stiles Ave.:geo:-81.1115807,32.0740493
END:VEVENT
BEGIN:VEVENT
DTSTART;TZID=America/New_York:20260627T190000
DTEND;TZID=America/New_York:20260627T190000
DTSTAMP:20260419T163416
CREATED:20260204T182053Z
LAST-MODIFIED:20260415T175010Z
UID:10000604-1782586800-1782586800@enmarketarena.com
SUMMARY:Savannah Steel Vs. Greensboro Groove
DESCRIPTION:
URL:https://enmarketarena.com/event/savannah-steel-vs-greensboro-groove-3/
LOCATION:Enmarket Arena\, 620 Stiles Ave.\, Savannah\, GA\, 31415\, United States
CATEGORIES:Sports
ATTACH;FMTTYPE=image/png:https://enmarketarena.com/wp-content/uploads/2026/02/SavannahSteelGameday_GreensboroGroove-1.png
GEO:32.0740493;-81.1115807
X-APPLE-STRUCTURED-LOCATION;VALUE=URI;X-ADDRESS=Enmarket Arena 620 Stiles Ave. Savannah GA 31415 United States;X-APPLE-RADIUS=500;X-TITLE=620 Stiles Ave.:geo:-81.1115807,32.0740493
END:VEVENT
BEGIN:VEVENT
DTSTART;TZID=America/New_York:20260703T190000
DTEND;TZID=America/New_York:20260703T190000
DTSTAMP:20260419T163416
CREATED:20260204T182704Z
LAST-MODIFIED:20260204T182704Z
UID:10000605-1783105200-1783105200@enmarketarena.com
SUMMARY:Savannah Steel Vs. Greensboro Groove
DESCRIPTION:
URL:https://enmarketarena.com/event/savannah-steel-vs-greensboro-groove-4/
LOCATION:Enmarket Arena\, 620 Stiles Ave.\, Savannah\, GA\, 31415\, United States
CATEGORIES:Sports
ATTACH;FMTTYPE=image/png:https://enmarketarena.com/wp-content/uploads/2026/02/SavannahSteelGameday_GreensboroGroove.png
GEO:32.0740493;-81.1115807
X-APPLE-STRUCTURED-LOCATION;VALUE=URI;X-ADDRESS=Enmarket Arena 620 Stiles Ave. Savannah GA 31415 United States;X-APPLE-RADIUS=500;X-TITLE=620 Stiles Ave.:geo:-81.1115807,32.0740493
END:VEVENT
BEGIN:VEVENT
DTSTART;TZID=America/New_York:20260705T190000
DTEND;TZID=America/New_York:20260705T190000
DTSTAMP:20260419T163416
CREATED:20260204T183935Z
LAST-MODIFIED:20260415T174713Z
UID:10000606-1783278000-1783278000@enmarketarena.com
SUMMARY:Savannah Steel Vs. Greensboro Groove
DESCRIPTION:
URL:https://enmarketarena.com/event/savannah-steel-vs-greensboro-groove-5/
LOCATION:Enmarket Arena\, 620 Stiles Ave.\, Savannah\, GA\, 31415\, United States
CATEGORIES:Sports
ATTACH;FMTTYPE=image/png:https://enmarketarena.com/wp-content/uploads/2026/02/SavannahSteelGameday_GreensboroGroove-1.png
GEO:32.0740493;-81.1115807
X-APPLE-STRUCTURED-LOCATION;VALUE=URI;X-ADDRESS=Enmarket Arena 620 Stiles Ave. Savannah GA 31415 United States;X-APPLE-RADIUS=500;X-TITLE=620 Stiles Ave.:geo:-81.1115807,32.0740493
END:VEVENT
BEGIN:VEVENT
DTSTART;TZID=America/New_York:20260708T120000
DTEND;TZID=America/New_York:20260708T120000
DTSTAMP:20260419T163416
CREATED:20260204T185708Z
LAST-MODIFIED:20260415T173848Z
UID:10000607-1783512000-1783512000@enmarketarena.com
SUMMARY:Savannah Steel Vs. Jacksonville Waves
DESCRIPTION:
URL:https://enmarketarena.com/event/savannah-steel-vs-jacksonville-waves-2/
LOCATION:Enmarket Arena\, 620 Stiles Ave.\, Savannah\, GA\, 31415\, United States
CATEGORIES:Sports
ATTACH;FMTTYPE=image/png:https://enmarketarena.com/wp-content/uploads/2026/02/SavannahSteelGameday_JacksonvilleWaves.png
GEO:32.0740493;-81.1115807
X-APPLE-STRUCTURED-LOCATION;VALUE=URI;X-ADDRESS=Enmarket Arena 620 Stiles Ave. Savannah GA 31415 United States;X-APPLE-RADIUS=500;X-TITLE=620 Stiles Ave.:geo:-81.1115807,32.0740493
END:VEVENT
BEGIN:VEVENT
DTSTART;TZID=America/New_York:20260710T190000
DTEND;TZID=America/New_York:20260710T190000
DTSTAMP:20260419T163416
CREATED:20260204T190014Z
LAST-MODIFIED:20260415T173620Z
UID:10000608-1783710000-1783710000@enmarketarena.com
SUMMARY:Savannah Steel Vs. Jacksonville Waves
DESCRIPTION:
URL:https://enmarketarena.com/event/savannah-steel-vs-jacksonville-waves-3/
LOCATION:Enmarket Arena\, 620 Stiles Ave.\, Savannah\, GA\, 31415\, United States
CATEGORIES:Sports
ATTACH;FMTTYPE=image/png:https://enmarketarena.com/wp-content/uploads/2026/02/SavannahSteelGameday_JacksonvilleWaves.png
GEO:32.0740493;-81.1115807
X-APPLE-STRUCTURED-LOCATION;VALUE=URI;X-ADDRESS=Enmarket Arena 620 Stiles Ave. Savannah GA 31415 United States;X-APPLE-RADIUS=500;X-TITLE=620 Stiles Ave.:geo:-81.1115807,32.0740493
END:VEVENT
BEGIN:VEVENT
DTSTART;TZID=America/New_York:20260712T140000
DTEND;TZID=America/New_York:20260712T140000
DTSTAMP:20260419T163416
CREATED:20260204T190600Z
LAST-MODIFIED:20260415T173503Z
UID:10000609-1783864800-1783864800@enmarketarena.com
SUMMARY:Savannah Steel Vs. Jacksonville Waves
DESCRIPTION:
URL:https://enmarketarena.com/event/savannah-steel-vs-jacksonville-waves-4/
LOCATION:Enmarket Arena\, 620 Stiles Ave.\, Savannah\, GA\, 31415\, United States
CATEGORIES:Sports
ATTACH;FMTTYPE=image/png:https://enmarketarena.com/wp-content/uploads/2026/02/SavannahSteelGameday_JacksonvilleWaves.png
GEO:32.0740493;-81.1115807
X-APPLE-STRUCTURED-LOCATION;VALUE=URI;X-ADDRESS=Enmarket Arena 620 Stiles Ave. Savannah GA 31415 United States;X-APPLE-RADIUS=500;X-TITLE=620 Stiles Ave.:geo:-81.1115807,32.0740493
END:VEVENT
BEGIN:VEVENT
DTSTART;TZID=America/New_York:20260723T190000
DTEND;TZID=America/New_York:20260723T190000
DTSTAMP:20260419T163416
CREATED:20260204T191429Z
LAST-MODIFIED:20260415T172935Z
UID:10000610-1784833200-1784833200@enmarketarena.com
SUMMARY:Savannah Steel Vs. Charlotte Crown
DESCRIPTION:
URL:https://enmarketarena.com/event/savannah-steel-vs-charlotte-crown-4/
LOCATION:Enmarket Arena\, 620 Stiles Ave.\, Savannah\, GA\, 31415\, United States
CATEGORIES:Sports
ATTACH;FMTTYPE=image/png:https://enmarketarena.com/wp-content/uploads/2026/02/SavannahSteelGameday_CharlotteCrown.png
GEO:32.0740493;-81.1115807
X-APPLE-STRUCTURED-LOCATION;VALUE=URI;X-ADDRESS=Enmarket Arena 620 Stiles Ave. Savannah GA 31415 United States;X-APPLE-RADIUS=500;X-TITLE=620 Stiles Ave.:geo:-81.1115807,32.0740493
END:VEVENT
BEGIN:VEVENT
DTSTART;TZID=America/New_York:20260731T190000
DTEND;TZID=America/New_York:20260731T190000
DTSTAMP:20260419T163416
CREATED:20260406T114517Z
LAST-MODIFIED:20260405T222221Z
UID:10000618-1785524400-1785524400@enmarketarena.com
SUMMARY:Monster Jam
DESCRIPTION:Feel the Thrill of Full-Throttle Fun \nGet ready for big-time entertainment as Savannah roars to life with gravity-defying stunts\, heart-pounding races\, and plenty of big air!  The world’s best drivers tear up the dirt as they battle for the Event Championship in three competitions: Racing\, 2 Wheel Skills\, and everyone’s favorite\, Freestyle\, where Monster Jam trucks defy the laws of physics and do the impossible.  Fans will be right in the middle of the action\, helping to crown the Event Champion as they get to score the drivers in real time based on their skills\, stunts\, and saves. \n  \nStart the Fun Early at the Monster Jam Pit Party® \nThe day of fun starts at the Monster Jam Pit Party® on Saturday and Sunday – your first stop for smiles\, selfies with the trucks\, high-fives and autographs from drivers\, and family-friendly activities. It’s the perfect way to start a day of adrenaline-charged fun\, plus get an insider’s look at how these
URL:https://enmarketarena.com/event/monster-jam/
LOCATION:Enmarket Arena\, 620 Stiles Ave.\, Savannah\, GA\, 31415\, United States
CATEGORIES:Family Show,Sports
ATTACH;FMTTYPE=image/jpeg:https://enmarketarena.com/wp-content/uploads/2026/04/262290900-MJS2ARENA-Savannah_Reeves-Venue_Assets-1080x1080-1.jpg
GEO:32.0740493;-81.1115807
X-APPLE-STRUCTURED-LOCATION;VALUE=URI;X-ADDRESS=Enmarket Arena 620 Stiles Ave. Savannah GA 31415 United States;X-APPLE-RADIUS=500;X-TITLE=620 Stiles Ave.:geo:-81.1115807,32.0740493
END:VEVENT
BEGIN:VEVENT
DTSTART;TZID=America/New_York:20260801T130000
DTEND;TZID=America/New_York:20260801T130000
DTSTAMP:20260419T163416
CREATED:20260406T114507Z
LAST-MODIFIED:20260405T222836Z
UID:10000619-1785589200-1785589200@enmarketarena.com
SUMMARY:Monster Jam
DESCRIPTION:Feel the Thrill of Full-Throttle Fun \nGet ready for big-time entertainment as Savannah roars to life with gravity-defying stunts\, heart-pounding races\, and plenty of big air!  The world’s best drivers tear up the dirt as they battle for the Event Championship in three competitions: Racing\, 2 Wheel Skills\, and everyone’s favorite\, Freestyle\, where Monster Jam trucks defy the laws of physics and do the impossible.  Fans will be right in the middle of the action\, helping to crown the Event Champion as they get to score the drivers in real time based on their skills\, stunts\, and saves. \n  \nStart the Fun Early at the Monster Jam Pit Party® \nThe day of fun starts at the Monster Jam Pit Party® on Saturday and Sunday – your first stop for smiles\, selfies with the trucks\, high-fives and autographs from drivers\, and family-friendly activities. It’s the perfect way to start a day of adrenaline-charged fun\, plus get an insider’s look at how these
URL:https://enmarketarena.com/event/monster-jam-2/
LOCATION:Enmarket Arena\, 620 Stiles Ave.\, Savannah\, GA\, 31415\, United States
CATEGORIES:Family Show,Sports
ATTACH;FMTTYPE=image/jpeg:https://enmarketarena.com/wp-content/uploads/2026/04/262290900-MJS2ARENA-Savannah_Reeves-Venue_Assets-1080x1080-1.jpg
GEO:32.0740493;-81.1115807
X-APPLE-STRUCTURED-LOCATION;VALUE=URI;X-ADDRESS=Enmarket Arena 620 Stiles Ave. Savannah GA 31415 United States;X-APPLE-RADIUS=500;X-TITLE=620 Stiles Ave.:geo:-81.1115807,32.0740493
END:VEVENT
BEGIN:VEVENT
DTSTART;TZID=America/New_York:20260801T190000
DTEND;TZID=America/New_York:20260801T190000
DTSTAMP:20260419T163416
CREATED:20260406T114520Z
LAST-MODIFIED:20260405T223207Z
UID:10000620-1785610800-1785610800@enmarketarena.com
SUMMARY:Monster Jam
DESCRIPTION:Feel the Thrill of Full-Throttle Fun \nGet ready for big-time entertainment as Savannah roars to life with gravity-defying stunts\, heart-pounding races\, and plenty of big air!  The world’s best drivers tear up the dirt as they battle for the Event Championship in three competitions: Racing\, 2 Wheel Skills\, and everyone’s favorite\, Freestyle\, where Monster Jam trucks defy the laws of physics and do the impossible.  Fans will be right in the middle of the action\, helping to crown the Event Champion as they get to score the drivers in real time based on their skills\, stunts\, and saves. \n  \nStart the Fun Early at the Monster Jam Pit Party® \nThe day of fun starts at the Monster Jam Pit Party® on Saturday and Sunday – your first stop for smiles\, selfies with the trucks\, high-fives and autographs from drivers\, and family-friendly activities. It’s the perfect way to start a day of adrenaline-charged fun\, plus get an insider’s look at how these
URL:https://enmarketarena.com/event/monster-jam-3/
LOCATION:Enmarket Arena\, 620 Stiles Ave.\, Savannah\, GA\, 31415\, United States
CATEGORIES:Family Show,Sports
ATTACH;FMTTYPE=image/jpeg:https://enmarketarena.com/wp-content/uploads/2026/04/262290900-MJS2ARENA-Savannah_Reeves-Venue_Assets-1080x1080-1.jpg
GEO:32.0740493;-81.1115807
X-APPLE-STRUCTURED-LOCATION;VALUE=URI;X-ADDRESS=Enmarket Arena 620 Stiles Ave. Savannah GA 31415 United States;X-APPLE-RADIUS=500;X-TITLE=620 Stiles Ave.:geo:-81.1115807,32.0740493
END:VEVENT
BEGIN:VEVENT
DTSTART;TZID=America/New_York:20260802T130000
DTEND;TZID=America/New_York:20260802T130000
DTSTAMP:20260419T163416
CREATED:20260406T114535Z
LAST-MODIFIED:20260405T224011Z
UID:10000621-1785675600-1785675600@enmarketarena.com
SUMMARY:Monster Jam
DESCRIPTION:Feel the Thrill of Full-Throttle Fun \nGet ready for big-time entertainment as Savannah roars to life with gravity-defying stunts\, heart-pounding races\, and plenty of big air!  The world’s best drivers tear up the dirt as they battle for the Event Championship in three competitions: Racing\, 2 Wheel Skills\, and everyone’s favorite\, Freestyle\, where Monster Jam trucks defy the laws of physics and do the impossible.  Fans will be right in the middle of the action\, helping to crown the Event Champion as they get to score the drivers in real time based on their skills\, stunts\, and saves. \n  \nStart the Fun Early at the Monster Jam Pit Party® \nThe day of fun starts at the Monster Jam Pit Party® on Saturday and Sunday – your first stop for smiles\, selfies with the trucks\, high-fives and autographs from drivers\, and family-friendly activities. It’s the perfect way to start a day of adrenaline-charged fun\, plus get an insider’s look at how these
URL:https://enmarketarena.com/event/monster-jam-4/
LOCATION:Enmarket Arena\, 620 Stiles Ave.\, Savannah\, GA\, 31415\, United States
CATEGORIES:Family Show,Sports
ATTACH;FMTTYPE=image/jpeg:https://enmarketarena.com/wp-content/uploads/2026/04/262290900-MJS2ARENA-Savannah_Reeves-Venue_Assets-1080x1080-1.jpg
GEO:32.0740493;-81.1115807
X-APPLE-STRUCTURED-LOCATION;VALUE=URI;X-ADDRESS=Enmarket Arena 620 Stiles Ave. Savannah GA 31415 United States;X-APPLE-RADIUS=500;X-TITLE=620 Stiles Ave.:geo:-81.1115807,32.0740493
END:VEVENT
BEGIN:VEVENT
DTSTART;TZID=America/New_York:20260802T183000
DTEND;TZID=America/New_York:20260802T183000
DTSTAMP:20260419T163416
CREATED:20260406T114553Z
LAST-MODIFIED:20260405T224337Z
UID:10000622-1785695400-1785695400@enmarketarena.com
SUMMARY:Monster Jam
DESCRIPTION:Feel the Thrill of Full-Throttle Fun \nGet ready for big-time entertainment as Savannah roars to life with gravity-defying stunts\, heart-pounding races\, and plenty of big air!  The world’s best drivers tear up the dirt as they battle for the Event Championship in three competitions: Racing\, 2 Wheel Skills\, and everyone’s favorite\, Freestyle\, where Monster Jam trucks defy the laws of physics and do the impossible.  Fans will be right in the middle of the action\, helping to crown the Event Champion as they get to score the drivers in real time based on their skills\, stunts\, and saves. \n  \nStart the Fun Early at the Monster Jam Pit Party® \nThe day of fun starts at the Monster Jam Pit Party® on Saturday and Sunday – your first stop for smiles\, selfies with the trucks\, high-fives and autographs from drivers\, and family-friendly activities. It’s the perfect way to start a day of adrenaline-charged fun\, plus get an insider’s look at how these
URL:https://enmarketarena.com/event/monster-jam-5/
LOCATION:Enmarket Arena\, 620 Stiles Ave.\, Savannah\, GA\, 31415\, United States
CATEGORIES:Family Show,Sports
ATTACH;FMTTYPE=image/jpeg:https://enmarketarena.com/wp-content/uploads/2026/04/262290900-MJS2ARENA-Savannah_Reeves-Venue_Assets-1080x1080-1.jpg
GEO:32.0740493;-81.1115807
X-APPLE-STRUCTURED-LOCATION;VALUE=URI;X-ADDRESS=Enmarket Arena 620 Stiles Ave. Savannah GA 31415 United States;X-APPLE-RADIUS=500;X-TITLE=620 Stiles Ave.:geo:-81.1115807,32.0740493
END:VEVENT
BEGIN:VEVENT
DTSTART;TZID=America/New_York:20260821T190000
DTEND;TZID=America/New_York:20260821T190000
DTSTAMP:20260419T163416
CREATED:20260204T195856Z
LAST-MODIFIED:20260415T172549Z
UID:10000611-1787338800-1787338800@enmarketarena.com
SUMMARY:Savannah Steel Vs. Charlotte Crown
DESCRIPTION:
URL:https://enmarketarena.com/event/savannah-steel-vs-charlotte-crown-5/
LOCATION:Enmarket Arena\, 620 Stiles Ave.\, Savannah\, GA\, 31415\, United States
CATEGORIES:Sports
ATTACH;FMTTYPE=image/png:https://enmarketarena.com/wp-content/uploads/2026/02/SavannahSteelGameday_CharlotteCrown.png
GEO:32.0740493;-81.1115807
X-APPLE-STRUCTURED-LOCATION;VALUE=URI;X-ADDRESS=Enmarket Arena 620 Stiles Ave. Savannah GA 31415 United States;X-APPLE-RADIUS=500;X-TITLE=620 Stiles Ave.:geo:-81.1115807,32.0740493
END:VEVENT
BEGIN:VEVENT
DTSTART;TZID=America/New_York:20260822T160000
DTEND;TZID=America/New_York:20260822T160000
DTSTAMP:20260419T163416
CREATED:20260204T200113Z
LAST-MODIFIED:20260415T172119Z
UID:10000612-1787414400-1787414400@enmarketarena.com
SUMMARY:Savannah Steel Vs. Jacksonville Waves
DESCRIPTION:
URL:https://enmarketarena.com/event/savannah-steel-vs-jacksonville-waves-5/
LOCATION:Enmarket Arena\, 620 Stiles Ave.\, Savannah\, GA\, 31415\, United States
CATEGORIES:Sports
ATTACH;FMTTYPE=image/png:https://enmarketarena.com/wp-content/uploads/2026/02/SavannahSteelGameday_JacksonvilleWaves.png
GEO:32.0740493;-81.1115807
X-APPLE-STRUCTURED-LOCATION;VALUE=URI;X-ADDRESS=Enmarket Arena 620 Stiles Ave. Savannah GA 31415 United States;X-APPLE-RADIUS=500;X-TITLE=620 Stiles Ave.:geo:-81.1115807,32.0740493
END:VEVENT
BEGIN:VEVENT
DTSTART;TZID=America/New_York:20260823T140000
DTEND;TZID=America/New_York:20260823T140000
DTSTAMP:20260419T163416
CREATED:20260204T200433Z
LAST-MODIFIED:20260415T171728Z
UID:10000613-1787493600-1787493600@enmarketarena.com
SUMMARY:Savannah Steel Vs. Jacksonville Waves
DESCRIPTION:
URL:https://enmarketarena.com/event/savannah-steel-vs-jacksonville-waves-6/
LOCATION:Enmarket Arena\, 620 Stiles Ave.\, Savannah\, GA\, 31415\, United States
CATEGORIES:Sports
ATTACH;FMTTYPE=image/png:https://enmarketarena.com/wp-content/uploads/2026/02/SavannahSteelGameday_JacksonvilleWaves.png
GEO:32.0740493;-81.1115807
X-APPLE-STRUCTURED-LOCATION;VALUE=URI;X-ADDRESS=Enmarket Arena 620 Stiles Ave. Savannah GA 31415 United States;X-APPLE-RADIUS=500;X-TITLE=620 Stiles Ave.:geo:-81.1115807,32.0740493
END:VEVENT
END:VCALENDAR